BEGIN:VCALENDAR
PRODID:-//PUBBLE//agenda//NL
VERSION:2.0
METHOD:PUBLISH
BEGIN:VEVENT
DTSTART:20260424T183000Z
DTEND:20260424T200000Z
DTSTAMP:20260423T153821Z
UID:ccac19b5-86a7-464e-9abc-77b921694ab6
CREATED:20260423T153821Z
NAME:Droogkomisch cabaret met Thjum brielsnieuwsland.nl
X-WR-CALNAME:Droogkomisch cabaret met Thjum
X-ALT-DESC;FMTTYPE=text/html:<a href='/agenda/2026/4/24/droogkomisch-cabaret-met-thjum-223318'>/agenda/2026/4/24/droogkomisch-cabaret-met-thjum-223318</a> || <p>Na het grote succes van zijn debuutvoorstelling Tijdloos Genot komt Thjum (winnaar Cameretten Festival 2021 en finalist Leids Cabaretfestival 2020) met een gloednieuw programma: Hoe heeft het zover kunnen komen? Ook nu blijft Thjum gewoon Thjum: authentiek, droogkomisch, met een hilarische mimiek en verrassende diepgang.</p><p>In zijn nieuwe voorstelling schetst Thjum beheerst-komisch zijn pogingen om zijn ongemakkelijke jeugd van zich af te schudden en uit zijn schulp te kruipen. We volgen hem op singlesweekenden, groepsreizen en zelfs tijdens een skydive - allemaal goedbedoelde pogingen om het leven (en de liefde) te doorgronden.Thjum maakt de balans op. Want er is nogal wat gaande. De wereld, de mensen, de situaties. Soms vraag je je gewoon af: Hoe hééft het zover kunnen komen? Thjum heeft dat ook. Vaak. En dat levert een avond slow-cabaret op van de hoogste plank!</p><p>‘’Zijn ingehouden, geduldige stijltje is verfrissend. Bovendien zorgt het voor een mooi verrassingseffect als hij zijn assertievere tegenpolen luidruchtig begint te imiteren.’’ - Theaterkrant.</p><p>Wil je er bij zijn op 24 april? Er zijn nog maar enkele kaarten beschikbaar dus wees er snel bij!</p><p>https://brestheater.nl/voorstelling/hoe-heeft-het-zover-kunnen-komen/</p>
DESCRIPTION:<a href='/agenda/2026/4/24/droogkomisch-cabaret-met-thjum-223318'>/agenda/2026/4/24/droogkomisch-cabaret-met-thjum-223318</a> || <p>Na het grote succes van zijn debuutvoorstelling Tijdloos Genot komt Thjum (winnaar Cameretten Festival 2021 en finalist Leids Cabaretfestival 2020) met een gloednieuw programma: Hoe heeft het zover kunnen komen? Ook nu blijft Thjum gewoon Thjum: authentiek, droogkomisch, met een hilarische mimiek en verrassende diepgang.</p><p>In zijn nieuwe voorstelling schetst Thjum beheerst-komisch zijn pogingen om zijn ongemakkelijke jeugd van zich af te schudden en uit zijn schulp te kruipen. We volgen hem op singlesweekenden, groepsreizen en zelfs tijdens een skydive - allemaal goedbedoelde pogingen om het leven (en de liefde) te doorgronden.Thjum maakt de balans op. Want er is nogal wat gaande. De wereld, de mensen, de situaties. Soms vraag je je gewoon af: Hoe hééft het zover kunnen komen? Thjum heeft dat ook. Vaak. En dat levert een avond slow-cabaret op van de hoogste plank!</p><p>‘’Zijn ingehouden, geduldige stijltje is verfrissend. Bovendien zorgt het voor een mooi verrassingseffect als hij zijn assertievere tegenpolen luidruchtig begint te imiteren.’’ - Theaterkrant.</p><p>Wil je er bij zijn op 24 april? Er zijn nog maar enkele kaarten beschikbaar dus wees er snel bij!</p><p>https://brestheater.nl/voorstelling/hoe-heeft-het-zover-kunnen-komen/</p>
LAST-MODIFIED:20260423T153821Z
LOCATION: BREStheater | Reede 2A Brielle
SEQUENCE:0
STATUS:CONFIRMED
SUMMARY:Droogkomisch cabaret met Thjum
TRANSP:OPAQUE
END:VEVENT
END:VCALENDAR
