BEGIN:VCALENDAR
PRODID:-//PUBBLE//agenda//NL
VERSION:2.0
METHOD:PUBLISH
BEGIN:VEVENT
DTSTART:20260503T080000Z
DTEND:20260503T100000Z
DTSTAMP:20260423T154047Z
UID:0db8275d-103d-4a8d-90d9-2dc34b12fe73
CREATED:20260423T154047Z
NAME:Andere kijk op ziek zijn brielsnieuwsland.nl
X-WR-CALNAME:Andere kijk op ziek zijn
X-ALT-DESC;FMTTYPE=text/html:<a href='/agenda/2026/5/3/andere-kijk-op-ziek-zijn-224534'>/agenda/2026/5/3/andere-kijk-op-ziek-zijn-224534</a> || <p>Op zondag 3 mei 2026 geeft Marianne Zandbergen een lezing over een bredere visie op ziekte en gezondheid. Vanuit haar persoonlijke ervaringen en haar achtergrond als verpleegkundige, geestelijk verzorger en theoloog laat zij zien hoe ziekte niet alleen een medische kwestie is, maar ook een signaal dat uitnodigt tot reflectie. Marianne belicht een holistische benadering waarin lichaam, ziel en geest samenkomen en waarin emoties, overtuigingen en levensomstandigheden een belangrijke rol spelen.De lezing vindt plaats om 10.00 uur in de kerk van de Vrijzinnigen Brielle, Kerkstraat 10. Toegang is gratis; een vrijwillige bijdrage is welkom. </p>
DESCRIPTION:<a href='/agenda/2026/5/3/andere-kijk-op-ziek-zijn-224534'>/agenda/2026/5/3/andere-kijk-op-ziek-zijn-224534</a> || <p>Op zondag 3 mei 2026 geeft Marianne Zandbergen een lezing over een bredere visie op ziekte en gezondheid. Vanuit haar persoonlijke ervaringen en haar achtergrond als verpleegkundige, geestelijk verzorger en theoloog laat zij zien hoe ziekte niet alleen een medische kwestie is, maar ook een signaal dat uitnodigt tot reflectie. Marianne belicht een holistische benadering waarin lichaam, ziel en geest samenkomen en waarin emoties, overtuigingen en levensomstandigheden een belangrijke rol spelen.De lezing vindt plaats om 10.00 uur in de kerk van de Vrijzinnigen Brielle, Kerkstraat 10. Toegang is gratis; een vrijwillige bijdrage is welkom. </p>
LAST-MODIFIED:20260423T154047Z
LOCATION: Kerkje Vrijzinnigen | Kerkstraat 10 Brielle
SEQUENCE:0
STATUS:CONFIRMED
SUMMARY:Andere kijk op ziek zijn
TRANSP:OPAQUE
END:VEVENT
END:VCALENDAR
